Workbook
Name ColumnTitle1: Ponuda!$B$3
Name ColumnTitleRegion1..B11.1: Ponuda!#REF!
Name RowTitleRegion1..D4: Ponuda!#REF!
Name RowTitleRegion2..D7: Ponuda!#REF!
Name RowTitleRegion3..C12: Ponuda!$B$2

Sheet Ponuda
B2: Komentari ili posebne upute: UREĐENJE PODRUMA GIMNAZIJA NOVA GRADIŠKA, Trg kralja Tomislava 9, Nova Gradiška-sanacija unutarnjih zidova i stropova
B3: Opis | C3: jed.mjera. | D3: kol. | E3: cijena | F3: IZNOS
B4: UNUTARNJI RADOVI
B5: Iznošenje stvari i opreme iz učionica i hodnika | C5: kpl | D5: 1 | F5: =Ponuda!$D5*Ponuda!$E5 -> 0
B6: Demontaža postojeće drvene stolarije i odvoz na deponiju (7 vrata i 2 prozora) | C6: kpl | D6: 1 | F6: =Ponuda!$D6*Ponuda!$E6 -> 0
B7: Demontaža postojeće lamperije na zidovima u učionicama | C7: m2 | D7: 68 | F7: =Ponuda!$D7*Ponuda!$E7 -> 0
B8: Demontaža postojećih sanitarija | C8: kpl | D8: 1 | F8: =Ponuda!$D8*Ponuda!$E8 -> 0
B9: Montaža gips kartonskih pregradnih zidova 10 cm, zid se sastoji od podkonstrukcije d=50 mm, 2x12,5 mm impregrirane vodootporne ploče i mineralne vune (uključeno gletanje spojeva i šmirglanje stropova) | C9: m2 | D9: 78 | F9: =Ponuda!$D9*Ponuda!$E9 -> 0
B10: Montaža gips kartonskih stropova, postavljanje pocinčane konstrukcije, 1x12,5 mm impregrirane vodootporne ploče (uključeno gletanje spojeva i šmirglanje stropova) | C10: m2 | D10: 66 | F10: =Ponuda!$D10*Ponuda!$E10 -> 0
B11: Zidanje i žbukanje otvora | C11: m2 | D11: 18 | F11: =Ponuda!$D11*Ponuda!$E11 -> 0
B12: Demontaža postojećih radijatora i odvoz na deponiju | C12: kpl | D12: 1 | F12: =Ponuda!$D12*Ponuda!$E12 -> 0
B13: Montaža novih pločastih radijatora 500x1600 mm | C13: kom | D13: 7 | F13: =Ponuda!$D13*Ponuda!$E13 -> 0
B14: Šlicanje zidova od pune opeke za postavljanje nove instalacije vode | C14: kpl | D14: 1 | F14: =Ponuda!$D14*Ponuda!$E14 -> 0
B15: Instalacija vode u sanitarnim čvorovima i ugradnja kompletnog zidnog razvoda tople i hladne vode, uključujući umivaonike, wc školjke i spajanje na glavni vod do potpune gotovosti | C15: kpl | D15: 1 | F15: =Ponuda!$D15*Ponuda!$E15 -> 0
B16: Postavljanje rabit mrežice, podloga i 2x ljepilo | C16: m2 | D16: 836 | F16: =Ponuda!$D16*Ponuda!$E16 -> 0
... B30: Dobava i izvedba horizontalne i vertikalne hidroizolacije poda i obodnih zidova u sanitarnim čvorovima | C30: m2 | D30: 54 | F30: =Ponuda!$D30*Ponuda!$E30 -> 0
B31: VANJSKI RADOVI
B32: Demontaža postojeće nadstrešnice 6,40x4,70 m i odvoz na deponiju | C32: kpl | D32: 1 | F32: =Ponuda!$D32*Ponuda!$E32 -> 0
B33: Montaža nove nadstrešnice 6,40x4,70 m, postavljanje 6 drvenih stubova 20x20, postavljanje greda, letve, crijepa i rina | C33: kpl | D33: 1 | F33: =Ponuda!$D33*Ponuda!$E33 -> 0
E34: Zbroj | F34: =SUM(F5:F33) -> 0
C35: Na iskazane cijene obračunava se PDV
C36: U cijenu su uračunati rad i sav materijal
